BEGIN:VCALENDAR
PRODID:Philharmonie.lu
VERSION:2.0
METHOD:PUBLISH
BEGIN:VEVENT
DTSTAMP:20260423T165705Z
DTSTART:20260327T183000Z
DTEND:20260327T193000Z
LOCATION:1, Place de l'Europe, Luxembourg, 1499, Luxembourg
SUMMARY:Ein Heldenleben
DESCRIPTION:Martin Rajna & Jan Lisiecki
UID:12579
URL:https://www.philharmonie.lu/en/programme/2025-26/ein-heldenleben-000000e9001a0424
END:VEVENT
END:VCALENDAR
