BEGIN:VCALENDAR
PRODID:Philharmonie.lu
VERSION:2.0
METHOD:PUBLISH
BEGIN:VEVENT
DTSTAMP:20260422T175418Z
DTSTART:20251113T190000Z
DTEND:20251113T200000Z
LOCATION:1, place Marie Adélaïde, Ettelbruck, 9002, Luxembourg
SUMMARY:Beethoven 4
DESCRIPTION:
UID:12598
URL:https://www.philharmonie.lu/en/programme/2025-26/beethoven-4-000000e90019f8ba
END:VEVENT
END:VCALENDAR
