BEGIN:VCALENDAR
PRODID:Philharmonie.lu
VERSION:2.0
METHOD:PUBLISH
BEGIN:VEVENT
DTSTAMP:20260425T215651Z
DTSTART:20260127T113000Z
DTEND:20260127T123000Z
LOCATION:1, Place de l'Europe, Luxembourg, 1499, Luxembourg
SUMMARY:Midi baroque: «L’Ambiance va être chouette»
DESCRIPTION:Exposition / concert
UID:12600
URL:https://www.philharmonie.lu/en/programme/2025-26/midi-baroque-l-ambiance-va-etre-chouette-000000e9001b6e6d
END:VEVENT
END:VCALENDAR
