BEGIN:VCALENDAR
PRODID:Philharmonie.lu
VERSION:2.0
METHOD:PUBLISH
BEGIN:VEVENT
DTSTAMP:20260421T080920Z
DTSTART:20260430T173000Z
DTEND:20260430T183000Z
LOCATION:1, Place de l'Europe, Luxembourg, 1499, Luxembourg
SUMMARY:Ambrose Akinmusire & Brussels Jazz Orchestra
DESCRIPTION:(…) What’s Not There. A New Perspective on Miles Davis
UID:12746
URL:https://www.philharmonie.lu/en/programme/2025-26/ambrose-akinmusire-brussels-jazz-orchestra-000000e9001b84d9
END:VEVENT
END:VCALENDAR
