BEGIN:VCALENDAR
PRODID:Philharmonie.lu
VERSION:2.0
METHOD:PUBLISH
BEGIN:VEVENT
DTSTAMP:20260424T222823Z
DTSTART:20260305T183000Z
DTEND:20260305T193000Z
LOCATION:1, Place de l'Europe, Luxembourg, 1499, Luxembourg
SUMMARY:Varijashree Venugopal
DESCRIPTION:Vari
UID:12778
URL:https://www.philharmonie.lu/en/programme/2025-26/varijashree-venugopal-000000e9001b8c9a
END:VEVENT
END:VCALENDAR
