BEGIN:VCALENDAR
PRODID:Philharmonie.lu
VERSION:2.0
METHOD:PUBLISH
BEGIN:VEVENT
DTSTAMP:20260424T163423Z
DTSTART:20251009T173000Z
DTEND:20251009T183000Z
LOCATION:1, Place de l'Europe, Luxembourg, 1499, Luxembourg
SUMMARY:Festival atlântico | Lamy, Cascais, Wiltgen & Toscano
DESCRIPTION:Compasso Cruzado
UID:12780
URL:https://www.philharmonie.lu/en/programme/2025-26/festival-atlantico-lamy-cascais-wiltgen-toscano-000000e9001b8c73
END:VEVENT
END:VCALENDAR
