BEGIN:VCALENDAR
PRODID:Philharmonie.lu
VERSION:2.0
METHOD:PUBLISH
BEGIN:VEVENT
DTSTAMP:20260419T122613Z
DTSTART:20260504T173000Z
DTEND:20260504T183000Z
LOCATION:1, Place de l'Europe, Luxembourg, 1499, Luxembourg
SUMMARY:John Scofield & Gerald Clayton
DESCRIPTION:
UID:12811
URL:https://www.philharmonie.lu/en/programme/2025-26/john-scofield-gerald-clayton-000000e9001b9603
END:VEVENT
END:VCALENDAR
