BEGIN:VCALENDAR
PRODID:Philharmonie.lu
VERSION:2.0
METHOD:PUBLISH
BEGIN:VEVENT
DTSTAMP:20260420T220807Z
DTSTART:20251109T183000Z
DTEND:20251109T193000Z
LOCATION:1, Place de l'Europe, Luxembourg, 1499, Luxembourg
SUMMARY:Beethoven & Tchaikovsky
DESCRIPTION:Classical N° 5
UID:12819
URL:https://www.philharmonie.lu/en/programme/2025-26/beethoven-tchaikovsky-000000e9001ab953
END:VEVENT
END:VCALENDAR
