BEGIN:VCALENDAR
PRODID:Philharmonie.lu
VERSION:2.0
METHOD:PUBLISH
BEGIN:VEVENT
DTSTAMP:20260421T024128Z
DTSTART:20260517T173000Z
DTEND:20260517T183000Z
LOCATION:1, Place de l'Europe, Luxembourg, 1499, Luxembourg
SUMMARY:Anoushka Shankar presents «Chapters»
DESCRIPTION:with the London Contemporary Orchestra
UID:12827
URL:https://www.philharmonie.lu/en/programme/2025-26/anoushka-shankar-presents-chapters-000000e9001b9cb4
END:VEVENT
END:VCALENDAR
