BEGIN:VCALENDAR
PRODID:Philharmonie.lu
VERSION:2.0
METHOD:PUBLISH
BEGIN:VEVENT
DTSTAMP:20260422T184246Z
DTSTART:20251008T173000Z
DTEND:20251008T183000Z
LOCATION:1, Place de l'Europe, Luxembourg, 1499, Luxembourg
SUMMARY:Festival atlântico | Gisela João
DESCRIPTION:Inquieta
UID:12873
URL:https://www.philharmonie.lu/en/programme/2025-26/festival-atlantico-gisela-joao-000000e9001b9aa8
END:VEVENT
END:VCALENDAR
