BEGIN:VCALENDAR
PRODID:Philharmonie.lu
VERSION:2.0
METHOD:PUBLISH
BEGIN:VEVENT
DTSTAMP:20260420T070205Z
DTSTART:20251005T130000Z
DTEND:20251005T140000Z
LOCATION:1, Place de l'Europe, Luxembourg, 1499, Luxembourg
SUMMARY:Der Fischer und die goldene Muschel
DESCRIPTION:
UID:12931
URL:https://www.philharmonie.lu/en/programme/2025-26/der-fischer-und-die-goldene-muschel-aus-dem-meer-000000e9001b7d23
END:VEVENT
END:VCALENDAR
