BEGIN:VCALENDAR
PRODID:Philharmonie.lu
VERSION:2.0
METHOD:PUBLISH
BEGIN:VEVENT
DTSTAMP:20260424T154409Z
DTSTART:20260416T170000Z
DTEND:20260416T180000Z
LOCATION:1, Place de l'Europe, Luxembourg, 1499, Luxembourg
SUMMARY:Jam Session
DESCRIPTION:All styles
UID:13054
URL:https://www.philharmonie.lu/en/programme/2025-26/jam-session-000000e9001b8b3c
END:VEVENT
END:VCALENDAR
