BEGIN:VCALENDAR
PRODID:Philharmonie.lu
VERSION:2.0
METHOD:PUBLISH
BEGIN:VEVENT
DTSTAMP:20260424T235058Z
DTSTART:20260304T183000Z
DTEND:20260304T193000Z
LOCATION:1, Place de l'Europe, Luxembourg, 1499, Luxembourg
SUMMARY:Bach et Kurtág en dialogue
DESCRIPTION:Pierre-Laurent Aimard
UID:13277
URL:https://www.philharmonie.lu/en/programme/2025-26/bach-et-kurtag-en-dialogue-000000e9001aaa51
END:VEVENT
END:VCALENDAR
