BEGIN:VCALENDAR
PRODID:Philharmonie.lu
VERSION:2.0
METHOD:PUBLISH
BEGIN:VEVENT
DTSTAMP:20260422T142825Z
DTSTART:20251120T103000Z
DTEND:20251120T113000Z
LOCATION:1, Place de l'Europe, Luxembourg, 1499, Luxembourg
SUMMARY:Hearing Voices 
DESCRIPTION:rainy days 2025 | A Multichannel Experience
UID:13759
URL:https://www.philharmonie.lu/en/programme/2025-26/hearing-voices-000000e9001bc3d0
END:VEVENT
END:VCALENDAR
