BEGIN:VCALENDAR
PRODID:Philharmonie.lu
VERSION:2.0
METHOD:PUBLISH
BEGIN:VEVENT
DTSTAMP:20260425T215803Z
DTSTART:20251122T171500Z
DTEND:20251122T181500Z
LOCATION:1, Place de l'Europe, Luxembourg, 1499, Luxembourg
SUMMARY:Les Percussions de Strasbourg
DESCRIPTION:rainy days 2025 | Only
UID:13819
URL:https://www.philharmonie.lu/en/programme/2025-26/les-percussions-de-strasbourg-000000e9001ba1df
END:VEVENT
END:VCALENDAR
