BEGIN:VCALENDAR
PRODID:Philharmonie.lu
VERSION:2.0
METHOD:PUBLISH
BEGIN:VEVENT
DTSTAMP:20260425T151725Z
DTSTART:20251123T191500Z
DTEND:20251123T201500Z
LOCATION:1, Place de l'Europe, Luxembourg, 1499, Luxembourg
SUMMARY:Explore Ensemble & Exaudi perform Catherine Lamb
DESCRIPTION:rainy days 2025 | dying your dying to come closer
UID:13857
URL:https://www.philharmonie.lu/en/programme/2025-26/explore-ensemble-exaudi-perform-catherine-lamb-000000e9001ba20c
END:VEVENT
END:VCALENDAR
