BEGIN:VCALENDAR
PRODID:Philharmonie.lu
VERSION:2.0
METHOD:PUBLISH
BEGIN:VEVENT
DTSTAMP:20260422T134301Z
DTSTART:20260531T083000Z
DTEND:20260531T093000Z
LOCATION:1, Place de l'Europe, Luxembourg, 1499, Luxembourg
SUMMARY:Baby Space
DESCRIPTION:
UID:13952
URL:https://www.philharmonie.lu/en/programme/2025-26/baby-space-000000e9001c0735
END:VEVENT
END:VCALENDAR
