BEGIN:VCALENDAR
PRODID:Philharmonie.lu
VERSION:2.0
METHOD:PUBLISH
BEGIN:VEVENT
DTSTAMP:20260422T150448Z
DTSTART:20251111T183000Z
DTEND:20251111T193000Z
LOCATION:1, Place de l'Europe, Luxembourg, 1499, Luxembourg
SUMMARY:Mozart, Fauré & Brahms: Piano Quartets
DESCRIPTION:Dayoon You, Sejune Kim, Woochan Jeong & Youl Sun
UID:13966
URL:https://www.philharmonie.lu/en/programme/2025-26/mozart-faure-brahms-piano-quartets-000000e9001ba0d1
END:VEVENT
END:VCALENDAR
