BEGIN:VCALENDAR
PRODID:Philharmonie.lu
VERSION:2.0
METHOD:PUBLISH
BEGIN:VEVENT
DTSTAMP:20260421T114735Z
DTSTART:20251002T173000Z
DTEND:20251002T183000Z
LOCATION:1, Place de l'Europe, Luxembourg, 1499, Luxembourg
SUMMARY:Steinway History in Concert
DESCRIPTION:
UID:13990
URL:https://www.philharmonie.lu/en/programme/2025-26/steinway-history-in-concert-000000e9001bc8e9
END:VEVENT
END:VCALENDAR
