BEGIN:VCALENDAR
PRODID:Philharmonie.lu
VERSION:2.0
METHOD:PUBLISH
BEGIN:VEVENT
DTSTAMP:20260425T184327Z
DTSTART:20260626T120000Z
DTEND:20260626T130000Z
LOCATION:1, Place de l'Europe, Luxembourg, 1499, Luxembourg
SUMMARY:Rhythms of India
DESCRIPTION:
UID:14104
URL:https://www.philharmonie.lu/en/programme/2025-26/schools/rhythms-of-india-000000e9001c2159
END:VEVENT
END:VCALENDAR
