BEGIN:VCALENDAR
PRODID:Philharmonie.lu
VERSION:2.0
METHOD:PUBLISH
BEGIN:VEVENT
DTSTAMP:20260426T010424Z
DTSTART:20260201T090000Z
DTEND:20260201T100000Z
LOCATION:1, Place de l'Europe, Luxembourg, 1499, Luxembourg
SUMMARY:Martina’s Music Box
DESCRIPTION:
UID:15290
URL:https://www.philharmonie.lu/en/programme/2025-26/martina-s-music-box-000000e9001d09d7
END:VEVENT
END:VCALENDAR
