BEGIN:VCALENDAR
PRODID:Philharmonie.lu
VERSION:2.0
METHOD:PUBLISH
BEGIN:VEVENT
DTSTAMP:20260419T122656Z
DTSTART:20260201T101500Z
DTEND:20260201T111500Z
LOCATION:1, Place de l'Europe, Luxembourg, 1499, Luxembourg
SUMMARY:Martina’s Music Box
DESCRIPTION:
UID:15292
URL:https://www.philharmonie.lu/en/programme/2025-26/martina-s-music-box-000000e9001d09d8
END:VEVENT
END:VCALENDAR
