BEGIN:VCALENDAR
PRODID:Philharmonie.lu
VERSION:2.0
METHOD:PUBLISH
BEGIN:VEVENT
DTSTAMP:20260420T135024Z
DTSTART:20260509T163000Z
DTEND:20260509T173000Z
LOCATION:1, Place de l'Europe, Luxembourg, 1499, Luxembourg
SUMMARY:Ciné-Concert: Europe: La Bataille des sièges, un film de Donato Rotunno
DESCRIPTION:sous la direction musicale de Pascal Schumacher
UID:15836
URL:https://www.philharmonie.lu/en/programme/2025-26/cine-concert-europe-la-bataille-des-sieges-un-film-de-donato-rotunno-000000e9001b6d5c
END:VEVENT
END:VCALENDAR
