BEGIN:VCALENDAR
PRODID:Philharmonie.lu
VERSION:2.0
METHOD:PUBLISH
BEGIN:VEVENT
DTSTAMP:20260421T123329Z
DTSTART:20260613T170000Z
DTEND:20260613T180000Z
LOCATION:1, Place de l'Europe, Luxembourg, 1499, Luxembourg
SUMMARY:Bright Horizons
DESCRIPTION:Voices International conducted by James Libbey
UID:16108
URL:https://www.philharmonie.lu/en/programme/2025-26/bright-horizons-000000e9001bc1f4
END:VEVENT
END:VCALENDAR
