BEGIN:VCALENDAR
PRODID:Philharmonie.lu
VERSION:2.0
METHOD:PUBLISH
BEGIN:VEVENT
DTSTAMP:20260424T062747Z
DTSTART:20260429T173000Z
DTEND:20260429T183000Z
LOCATION:1, Place de l'Europe, Luxembourg, 1499, Luxembourg
SUMMARY:Marc Ribot Quartet
DESCRIPTION:Hurry Red Telephone
UID:16265
URL:https://www.philharmonie.lu/en/programme/2025-26/marc-ribot-quartet-000000e9001d9261
END:VEVENT
END:VCALENDAR
