BEGIN:VCALENDAR
PRODID:Philharmonie.lu
VERSION:2.0
METHOD:PUBLISH
BEGIN:VEVENT
DTSTAMP:20260421T101632Z
DTSTART:20231015T150000Z
DTEND:20231015T160000Z
LOCATION:1, Place de l'Europe, Luxembourg, 1499, Luxembourg
SUMMARY:«Sérénade»
DESCRIPTION:
UID:6077
URL:https://www.philharmonie.lu/en/programme/2023-24/serenade-000000e900173478
END:VEVENT
END:VCALENDAR
