BEGIN:VCALENDAR
PRODID:Philharmonie.lu
VERSION:2.0
METHOD:PUBLISH
BEGIN:VEVENT
DTSTAMP:20260421T103029Z
DTSTART:20231018T103000Z
DTEND:20231018T113000Z
LOCATION:1, Place de l'Europe, Luxembourg, 1499, Luxembourg
SUMMARY:«Lunch concert»
DESCRIPTION:
UID:6085
URL:https://www.philharmonie.lu/en/programme/2023-24/lunch-concert-000000e900178afb
END:VEVENT
END:VCALENDAR
