BEGIN:VCALENDAR
PRODID:Philharmonie.lu
VERSION:2.0
METHOD:PUBLISH
BEGIN:VEVENT
DTSTAMP:20260419T130301Z
DTSTART:20231217T094000Z
DTEND:20231217T104000Z
LOCATION:1, Place de l'Europe, Luxembourg, 1499, Luxembourg
SUMMARY:«Les enfants de l’Alzette»
DESCRIPTION:Concert pop-up du chœur d'enfants / Pop-up-Konzert des Kinderchors
UID:6560
URL:https://www.philharmonie.lu/en/programme/2023-24/les-enfants-de-l-alzette-000000e90018f43e
END:VEVENT
END:VCALENDAR
