BEGIN:VCALENDAR
PRODID:Philharmonie.lu
VERSION:2.0
METHOD:PUBLISH
BEGIN:VEVENT
DTSTAMP:20260423T230216Z
DTSTART:20240303T110000Z
DTEND:20240303T120000Z
LOCATION:1, Place de l'Europe, Luxembourg, 1499, Luxembourg
SUMMARY:Visite en français de la Philharmonie
DESCRIPTION:
UID:6892
URL:https://www.philharmonie.lu/en/programme/2023-24/visite-en-francais-de-la-philharmonie-000000e9001914ad
END:VEVENT
END:VCALENDAR
