BEGIN:VCALENDAR
PRODID:Philharmonie.lu
VERSION:2.0
METHOD:PUBLISH
BEGIN:VEVENT
DTSTAMP:20260422T180624Z
DTSTART:20240303T160000Z
DTEND:20240303T170000Z
LOCATION:1, Place de l'Europe, Luxembourg, 1499, Luxembourg
SUMMARY:«Duruflé: échappées grégoriennes»
DESCRIPTION:
UID:6894
URL:https://www.philharmonie.lu/en/programme/2023-24/durufle-echappees-gregoriennes-000000e900179fa0
END:VEVENT
END:VCALENDAR
