BEGIN:VCALENDAR
PRODID:Philharmonie.lu
VERSION:2.0
METHOD:PUBLISH
BEGIN:VEVENT
DTSTAMP:20260420T074221Z
DTSTART:20240304T183000Z
DTEND:20240304T193000Z
LOCATION:1, Place de l'Europe, Luxembourg, 1499, Luxembourg
SUMMARY:«La Harpe fantastique»
DESCRIPTION:
UID:6898
URL:https://www.philharmonie.lu/en/programme/2023-24/la-harpe-fantastique-000000e90015d9ee
END:VEVENT
END:VCALENDAR
