BEGIN:VCALENDAR
PRODID:Philharmonie.lu
VERSION:2.0
METHOD:PUBLISH
BEGIN:VEVENT
DTSTAMP:20260423T055311Z
DTSTART:20240326T190000Z
DTEND:20240326T200000Z
LOCATION:1, Place de l'Europe, Luxembourg, 1499, Luxembourg
SUMMARY:Renaud
DESCRIPTION:Dans mes cordes
UID:6999
URL:https://www.philharmonie.lu/en/programme/2023-24/renaud-000000e900182441
END:VEVENT
END:VCALENDAR
