BEGIN:VCALENDAR
PRODID:Philharmonie.lu
VERSION:2.0
METHOD:PUBLISH
BEGIN:VEVENT
DTSTAMP:20260419T130752Z
DTSTART:20240420T173000Z
DTEND:20240420T183000Z
LOCATION:1, Place de l'Europe, Luxembourg, 1499, Luxembourg
SUMMARY:Jason Moran & Frankfurt Radio Big Band
DESCRIPTION:«125 years of Duke Ellington»
UID:7055
URL:https://www.philharmonie.lu/en/programme/2023-24/jason-moran-frankfurt-radio-big-band-000000e90017c737
END:VEVENT
END:VCALENDAR
