BEGIN:VCALENDAR
PRODID:Philharmonie.lu
VERSION:2.0
METHOD:PUBLISH
BEGIN:VEVENT
DTSTAMP:20260422T143138Z
DTSTART:20240524T173000Z
DTEND:20240524T183000Z
LOCATION:1, Place de l'Europe, Luxembourg, 1499, Luxembourg
SUMMARY:«Tugan Sokhiev conducts Shostakovich 10»
DESCRIPTION:
UID:7250
URL:https://www.philharmonie.lu/en/programme/2023-24/tugan-sokhiev-conducts-shostakovich-10-000000e900164a54
END:VEVENT
END:VCALENDAR
