BEGIN:VCALENDAR
PRODID:Philharmonie.lu
VERSION:2.0
METHOD:PUBLISH
BEGIN:VEVENT
DTSTAMP:20260423T163920Z
DTSTART:20240614T173000Z
DTEND:20240614T183000Z
LOCATION:1, Place de l'Europe, Luxembourg, 1499, Luxembourg
SUMMARY:«Sea Beneath The Skin by Lemi Ponifasio»
DESCRIPTION:Gustav Mahler & Moana Pacific
UID:7296
URL:https://www.philharmonie.lu/en/programme/2023-24/sea-beneath-the-skin-000000e900164a67
END:VEVENT
END:VCALENDAR
