BEGIN:VCALENDAR
PRODID:Philharmonie.lu
VERSION:2.0
METHOD:PUBLISH
BEGIN:VEVENT
DTSTAMP:20260423T192351Z
DTSTART:20241103T183000Z
DTEND:20241103T193000Z
LOCATION:1, Place de l'Europe, Luxembourg, 1499, Luxembourg
SUMMARY:Cecilia Bartoli: Orfeo ed Euridice
DESCRIPTION:To Hell and Back
UID:8126
URL:https://www.philharmonie.lu/en/programme/2024-25/cecilia-bartoli-orfeo-ed-euridice-000000e900193629
END:VEVENT
END:VCALENDAR
