BEGIN:VCALENDAR
PRODID:Philharmonie.lu
VERSION:2.0
METHOD:PUBLISH
BEGIN:VEVENT
DTSTAMP:20260421T203323Z
DTSTART:20250117T190000Z
DTEND:20250117T200000Z
LOCATION:1, rond-point Schuman, Luxembourg, 2525, Luxembourg
SUMMARY:Ombra
DESCRIPTION:
UID:8178
URL:https://www.philharmonie.lu/en/programme/2024-25/ombra-000000e900186cdc
END:VEVENT
END:VCALENDAR
