BEGIN:VCALENDAR
PRODID:Philharmonie.lu
VERSION:2.0
METHOD:PUBLISH
BEGIN:VEVENT
DTSTAMP:20260423T192345Z
DTSTART:20240929T173000Z
DTEND:20240929T183000Z
LOCATION:1, Place de l'Europe, Luxembourg, 1499, Luxembourg
SUMMARY:Krystian Zimerman
DESCRIPTION:
UID:8287
URL:https://www.philharmonie.lu/en/programme/2024-25/krystian-zimerman-000000e90018f112
END:VEVENT
END:VCALENDAR
