BEGIN:VCALENDAR
PRODID:Philharmonie.lu
VERSION:2.0
METHOD:PUBLISH
BEGIN:VEVENT
DTSTAMP:20260421T121725Z
DTSTART:20241001T173000Z
DTEND:20241001T183000Z
LOCATION:1, Place de l'Europe, Luxembourg, 1499, Luxembourg
SUMMARY:Rising star: Benjamin Kruithof
DESCRIPTION:
UID:8291
URL:https://www.philharmonie.lu/en/programme/2024-25/rising-star-benjamin-kruithof-000000e90018fcb2
END:VEVENT
END:VCALENDAR
