BEGIN:VCALENDAR
PRODID:Philharmonie.lu
VERSION:2.0
METHOD:PUBLISH
BEGIN:VEVENT
DTSTAMP:20260426T011225Z
DTSTART:20241021T173000Z
DTEND:20241021T183000Z
LOCATION:1, Place de l'Europe, Luxembourg, 1499, Luxembourg
SUMMARY:Yuja Wang & Víkingur Ólafsson
DESCRIPTION:Magie à quatre mains
UID:8313
URL:https://www.philharmonie.lu/en/programme/2024-25/yuja-wang-vikingur-olafsson-000000e900184f85
END:VEVENT
END:VCALENDAR
