BEGIN:VCALENDAR
PRODID:Philharmonie.lu
VERSION:2.0
METHOD:PUBLISH
BEGIN:VEVENT
DTSTAMP:20260419T173638Z
DTSTART:20241206T183000Z
DTEND:20241206T193000Z
LOCATION:1, Place de l'Europe, Luxembourg, 1499, Luxembourg
SUMMARY:Beethoven: Symphonie N° 9
DESCRIPTION:Philippe Herreweghe & Orchestre des Champs-Élysées
UID:8373
URL:https://www.philharmonie.lu/en/programme/2024-25/beethoven-symphonie-n-9-000000e90016ff05
END:VEVENT
END:VCALENDAR
