BEGIN:VCALENDAR
PRODID:Philharmonie.lu
VERSION:2.0
METHOD:PUBLISH
BEGIN:VEVENT
DTSTAMP:20260419T133417Z
DTSTART:20241216T183000Z
DTEND:20241216T193000Z
LOCATION:1, Place de l'Europe, Luxembourg, 1499, Luxembourg
SUMMARY:Une crèche musicale de Noël
DESCRIPTION:
UID:8407
URL:https://www.philharmonie.lu/en/programme/2024-25/une-creche-musicale-de-noel-000000e900190dd4
END:VEVENT
END:VCALENDAR
