BEGIN:VCALENDAR
PRODID:Philharmonie.lu
VERSION:2.0
METHOD:PUBLISH
BEGIN:VEVENT
DTSTAMP:20260419T131421Z
DTSTART:20241220T183000Z
DTEND:20241220T193000Z
LOCATION:1, Place de l'Europe, Luxembourg, 1499, Luxembourg
SUMMARY:Chrëschtconcert
DESCRIPTION:
UID:8415
URL:https://www.philharmonie.lu/en/programme/2024-25/chreschtconcert-000000e900186cd0
END:VEVENT
END:VCALENDAR
