BEGIN:VCALENDAR
PRODID:Philharmonie.lu
VERSION:2.0
METHOD:PUBLISH
BEGIN:VEVENT
DTSTAMP:20260424T191701Z
DTSTART:20250120T183000Z
DTEND:20250120T193000Z
LOCATION:1, Place de l'Europe, Luxembourg, 1499, Luxembourg
SUMMARY:Sonates solos & divertimento
DESCRIPTION:with three greats
UID:8447
URL:https://www.philharmonie.lu/en/programme/2024-25/sonates-solos-divertimento-000000e90018cd7a
END:VEVENT
END:VCALENDAR
