BEGIN:VCALENDAR
PRODID:Philharmonie.lu
VERSION:2.0
METHOD:PUBLISH
BEGIN:VEVENT
DTSTAMP:20260419T120354Z
DTSTART:20250127T183000Z
DTEND:20250127T193000Z
LOCATION:1, Place de l'Europe, Luxembourg, 1499, Luxembourg
SUMMARY:Wie Melodien zieht es mir leise durch den Sinn
DESCRIPTION:
UID:8465
URL:https://www.philharmonie.lu/en/programme/2024-25/wie-melodien-zieht-es-mir-leise-durch-den-sinn-000000e900190ddd
END:VEVENT
END:VCALENDAR
