BEGIN:VCALENDAR
PRODID:Philharmonie.lu
VERSION:2.0
METHOD:PUBLISH
BEGIN:VEVENT
DTSTAMP:20260419T130627Z
DTSTART:20250209T183000Z
DTEND:20250209T193000Z
LOCATION:1, Place de l'Europe, Luxembourg, 1499, Luxembourg
SUMMARY:Mariza
DESCRIPTION:Amor
UID:8485
URL:https://www.philharmonie.lu/en/programme/2024-25/mariza-000000e90018f42b
END:VEVENT
END:VCALENDAR
