BEGIN:VCALENDAR
PRODID:Philharmonie.lu
VERSION:2.0
METHOD:PUBLISH
BEGIN:VEVENT
DTSTAMP:20260425T145424Z
DTSTART:20250323T183000Z
DTEND:20250323T193000Z
LOCATION:1, Place de l'Europe, Luxembourg, 1499, Luxembourg
SUMMARY:Jazz at Lincoln Center Orchestra with Wynton Marsalis
DESCRIPTION:
UID:8549
URL:https://www.philharmonie.lu/en/programme/2024-25/jazz-at-lincoln-center-orchestra-with-wynton-marsalis-000000e900196601
END:VEVENT
END:VCALENDAR
