BEGIN:VCALENDAR
PRODID:Philharmonie.lu
VERSION:2.0
METHOD:PUBLISH
BEGIN:VEVENT
DTSTAMP:20260423T192514Z
DTSTART:20250324T183000Z
DTEND:20250324T193000Z
LOCATION:1, Place de l'Europe, Luxembourg, 1499, Luxembourg
SUMMARY:Mozart: Le nozze di Figaro
DESCRIPTION:Giovanni Antonini & Kammerorchester Basel
UID:8551
URL:https://www.philharmonie.lu/en/programme/2024-25/mozart-le-nozze-di-figaro-000000e90017edf9
END:VEVENT
END:VCALENDAR
