BEGIN:VCALENDAR
PRODID:Philharmonie.lu
VERSION:2.0
METHOD:PUBLISH
BEGIN:VEVENT
DTSTAMP:20260423T192213Z
DTSTART:20250325T183000Z
DTEND:20250325T193000Z
LOCATION:1, Place de l'Europe, Luxembourg, 1499, Luxembourg
SUMMARY:The Philharmonic Brass
DESCRIPTION:Mitglieder der Wiener und Berliner Philharmoniker
UID:8553
URL:https://www.philharmonie.lu/en/programme/2024-25/the-philharmonic-brass-000000e90018b433
END:VEVENT
END:VCALENDAR
