BEGIN:VCALENDAR
PRODID:Philharmonie.lu
VERSION:2.0
METHOD:PUBLISH
BEGIN:VEVENT
DTSTAMP:20260423T192407Z
DTSTART:20250429T173000Z
DTEND:20250429T183000Z
LOCATION:1, Place de l'Europe, Luxembourg, 1499, Luxembourg
SUMMARY:Belcea Quartet
DESCRIPTION:Pushing boundaries
UID:8597
URL:https://www.philharmonie.lu/en/programme/2024-25/belcea-quartet-000000e900193c60
END:VEVENT
END:VCALENDAR
